BEGIN:VCALENDAR
VERSION:2.0
PRODID:-//ChamberMaster//Event Calendar 2.0//EN
METHOD:PUBLISH
X-PUBLISHED-TTL:P3D
REFRESH-INTERVAL:P3D
CALSCALE:GREGORIAN
BEGIN:VEVENT
DTSTART:20200623T190000Z
DTEND:20200623T200000Z
X-MICROSOFT-CDO-ALLDAYEVENT:FALSE
SUMMARY:Small Business Committee (Virtual)
DESCRIPTION:Virtual Zoom call.  Contact us if interested in participating.
X-ALT-DESC;FMTTYPE=text/html:Virtual Zoom call.&nbsp\; Contact us if interested in participating.
LOCATION:
UID:e.468.15986
SEQUENCE:3
DTSTAMP:20260426T042034Z
URL:https://www.newnancowetachamber.org/events/details/small-business-committee-virtual-15986
END:VEVENT

END:VCALENDAR
