BEGIN:VCALENDAR
VERSION:2.0
PRODID:-//ChamberMaster//Event Calendar 2.0//EN
METHOD:PUBLISH
X-PUBLISHED-TTL:P3D
REFRESH-INTERVAL:P3D
CALSCALE:GREGORIAN
BEGIN:VEVENT
DTSTART:20220323T153000Z
DTEND:20220323T173000Z
X-MICROSOFT-CDO-ALLDAYEVENT:FALSE
SUMMARY:State of the Chamber Annual Meeting 2022
DESCRIPTION:Join the Newnan-Coweta Chamber\, Georgia Power\, and guests on March 23rd for our 74th Annual Meeting of the Members. Learn more about our role as a convener and the intentional partnerships with local thought leaders that will ensure that Coweta remains the region's most desirable\, thriving community.\n\n \nIf this past year has taught us anything it's that the perseverance of our community is something special. That's no trick! Together\, we are magic. Join us for an enchanted afternoon with lunch\, camaraderie\, motivation\, and mind-blowing tricks.
X-ALT-DESC;FMTTYPE=text/html:<div><span style="color:#000000\;"><span style="font-size:14px\;"><span style="font-family:tahoma\;">Join the Newnan-Coweta Chamber\, Georgia Power\, and guests on March 23rd for our 74th Annual Meeting of the Members. Learn more about our role as a convener and the intentional partnerships with local thought leaders that will ensure that Coweta remains the region&#39\;s most desirable\, thriving community.</span></span></span><br />\n&nbsp\;</div>\n<span style="color:#000000\;"><span style="font-size:14px\;"><span style="font-family:tahoma\;">If this past year has taught us anything it&#39\;s that the perseverance of our community is something special. That&#39\;s no trick! Together\, we are magic. Join us for an enchanted afternoon with lunch\, camaraderie\, motivation\, and mind-blowing tricks.</span></span></span>
LOCATION:The Venue at Murphy Lane 525 Murphy Road Newnan\, GA 30263
UID:e.468.18205
SEQUENCE:3
DTSTAMP:20260424T191410Z
URL:https://www.newnancowetachamber.org/events/details/state-of-the-chamber-annual-meeting-2022-18205
END:VEVENT

END:VCALENDAR
