BEGIN:VCALENDAR
VERSION:2.0
PRODID:-//ChamberMaster//Event Calendar 2.0//EN
METHOD:PUBLISH
X-PUBLISHED-TTL:P3D
REFRESH-INTERVAL:P3D
CALSCALE:GREGORIAN
BEGIN:VEVENT
DTSTART:20261028T153000Z
DTEND:20261028T170000Z
X-MICROSOFT-CDO-ALLDAYEVENT:FALSE
SUMMARY:State of the Community: State of the County
DESCRIPTION:
X-ALT-DESC;FMTTYPE=text/html:
LOCATION:Newnan Country Club 1356 US -29 Newnan\, Georgia 30263
UID:e.468.21320
SEQUENCE:3
DTSTAMP:20260424T174356Z
URL:https://www.newnancowetachamber.org/events/details/state-of-the-community-state-of-the-county-10-28-2026-21320
END:VEVENT

END:VCALENDAR
