BEGIN:VCALENDAR
VERSION:2.0
PRODID:-//ChamberMaster//Event Calendar 2.0//EN
METHOD:PUBLISH
X-PUBLISHED-TTL:P3D
REFRESH-INTERVAL:P3D
CALSCALE:GREGORIAN
BEGIN:VEVENT
DTSTART:20231004T153000Z
DTEND:20231004T170000Z
X-MICROSOFT-CDO-ALLDAYEVENT:FALSE
SUMMARY:Talk of the Town
DESCRIPTION:We're charged up and electrified\, as the last in our 2023 Talk of the Town series draws our attention to FREYR Battery\, the soon-to-be newest arrival to the Coweta industrial ecosystem. \n\nFREYR Battery aims to provide industrial scale clean battery solutions to reduce global emissions. Listed on the New York Stock Exchange\, FREYR's mission is to produce green battery cells to accelerate the decarbonization of energy and transportation systems globally. FREYR has commenced building the first of its planned factories in Mo i Rana\, Norway and announced the development of a industrial scale battery cell production facility in Newnan-Coweta. \n\nThe company plans to spend $1.7 billion on the first phase of the "Giga America" factory\, with later expansions that could include solar parks with storage modules and materials processing bringing the total to $2.57 billion. Freyr has committed to hiring 723 people in Coweta County\, as Georgia continues to notch wins in the ascendant new-energy and electric-vehicle sector.
X-ALT-DESC;FMTTYPE=text/html:<p><span style="font-size:14px\;"><span style="font-family:tahoma\;">We&#39\;re charged up and electrified\, as the last in our 2023 Talk of the Town series draws our attention to FREYR&nbsp\;Battery\, the soon-to-be newest&nbsp\;arrival to the Coweta industrial ecosystem.&nbsp\;</span></span></p>\n\n<p><span style="font-size:14px\;"><span style="font-family:tahoma\;">FREYR Battery aims to provide industrial scale clean battery solutions to reduce global emissions. Listed on the New York Stock Exchange\, FREYR&rsquo\;s mission is to produce green battery cells to accelerate the decarbonization of energy and transportation systems globally. FREYR has commenced building the first of its planned factories in Mo i Rana\, Norway and announced the development of a industrial scale battery cell production facility in Newnan-Coweta.&nbsp\;</span></span></p>\n\n<p><span style="font-size:14px\;"><span style="font-family:tahoma\;">The company plans to spend $1.7 billion on the first phase of the&nbsp\;&ldquo\;Giga America&rdquo\; factory\, with later expansions that could include solar parks with storage modules and materials processing bringing the total to $2.57 billion.&nbsp\;Freyr has committed to hiring 723 people in Coweta County\, as Georgia continues to notch wins in the ascendant new-energy and electric-vehicle sector.</span></span></p>\n
LOCATION:Newnan Country Club 1356 US-29\, Newnan\, GA 30263
UID:e.468.19113
SEQUENCE:3
DTSTAMP:20260420T015707Z
URL:https://www.newnancowetachamber.org/events/details/talk-of-the-town-19113
END:VEVENT

END:VCALENDAR
