BEGIN:VCALENDAR
VERSION:2.0
PRODID:-//ChamberMaster//Event Calendar 2.0//EN
METHOD:PUBLISH
X-PUBLISHED-TTL:P3D
REFRESH-INTERVAL:P3D
CALSCALE:GREGORIAN
BEGIN:VEVENT
DTSTART:20240320T153000Z
DTEND:20240320T170000Z
X-MICROSOFT-CDO-ALLDAYEVENT:FALSE
SUMMARY:Talk of the Town 2024
DESCRIPTION:The Newnan-Coweta Chamber invites you to join us for our first Talk of the Town of the year! Learn more about what's happening in Coweta communities   from business expansions and development to exciting events and cool happenings. Get the inside scoop on what's going on in your community - this exciting member event occurs only three times a year\, so get in the loop and mark your calendars!\n\n\n\nThis edition of Talk of the Town features an exciting panel of NextGen Movers and Shakers. Panelists include: Jonathan Watkins\, City of Hope\; Sister Ward\, Georgia Power\; JJ Thomasson\, 75 Jackson Street\; Milan Patel\, Bottoms UP\; and Clay Neely\, The Newnan Times-Herald.
X-ALT-DESC;FMTTYPE=text/html:<span style="font-family:tahoma\;"><font color="#333333"><span style="font-size: 14px\; background-color: rgb(255\, 255\, 255)\;">The Newnan-Coweta Chamber invites you to join us for our first Talk of the Town of the year! Learn more about what&rsquo\;s happening in Coweta communities &mdash\; from business expansions and development to exciting events and cool happenings. Get the inside scoop on what&rsquo\;s going on in your community - this exciting member event occurs only three times a year\, so get in the loop and mark your calendars!</span></font><br />\n<br />\n<span style="font-size:14px\;">This edition of Talk of the Town features an exciting panel of NextGen Movers and Shakers. Panelists include: Jonathan Watkins\, City of Hope\; Sister Ward\, Georgia Power\; JJ Thomasson\, 75 Jackson Street\; Milan Patel\, Bottoms UP\; and Clay Neely\, The Newnan Times-Herald.</span></span>
LOCATION:Newnan Country Club 1356 US-29\, Newnan\, GA 30263
UID:e.468.19193
SEQUENCE:3
DTSTAMP:20260420T001846Z
URL:https://www.newnancowetachamber.org/events/details/talk-of-the-town-2024-19193
END:VEVENT

END:VCALENDAR
