BEGIN:VCALENDAR
VERSION:2.0
PRODID:-//ChamberMaster//Event Calendar 2.0//EN
METHOD:PUBLISH
X-PUBLISHED-TTL:P3D
REFRESH-INTERVAL:P3D
CALSCALE:GREGORIAN
BEGIN:VEVENT
DTSTART:20230301T163000Z
DTEND:20230301T180000Z
X-MICROSOFT-CDO-ALLDAYEVENT:FALSE
SUMMARY:Talk of the Town: Dunaway Gardens
DESCRIPTION:Join us for our *new* Talk of the Town luncheon series presented by Dry Cleaning Connection and hear first-hand from the county's most influential leaders as they address community news and priorities.\n\n\n\nIn the first of the series\, we'll welcome Tena Clark - creative\, author\, writer\, producer\, visionary\, activist\, and co-owner of Newnan's fabled Dunaway Gardens. \n\n\n\nHear first-hand of Clark's plans to reinvigorate\, restore\, preserve\, and reimagine the 130+ acres envisioned by Hettie Jane Dunaway-Sewell as a celebrity retreat and training ground\, and an entertainment venue for locals.
X-ALT-DESC;FMTTYPE=text/html:<span style="font-size:14px\;"><span style="caret-color: rgb(77\, 81\, 86)\;">Join us for our *new*&nbsp\;</span><span style="font-weight: bold\;">Talk of the Town</span><span style="caret-color: rgb(77\, 81\, 86)\;">&nbsp\;luncheon series presented by Dry Cleaning Connection and hear first-hand from the county&#39\;s most influential leaders as they address community news and priorities.<br />\n<br />\nIn the first of the series\, we&#39\;ll welcome <strong>Tena Clark</strong> - creative\,</span>&nbsp\;author\, writer\, producer\, visionary\, activist\, and co-owner of Newnan&#39\;s fabled Dunaway Gardens.&nbsp\;<br />\n<br />\nHear first-hand of Clark&#39\;s plans to reinvigorate\, restore\, preserve\, and reimagine the 130+ acres envisioned by Hettie Jane Dunaway-Sewell as a celebrity retreat and training ground\, and an entertainment venue for locals.&nbsp\;</span>
LOCATION:Newnan County Club 1356 Highway 29 N Newnan\, Georgia 30263
UID:e.468.18633
SEQUENCE:3
DTSTAMP:20260422T130347Z
URL:https://www.newnancowetachamber.org/events/details/talk-of-the-town-dunaway-gardens-18633
END:VEVENT

END:VCALENDAR
