BEGIN:VCALENDAR
VERSION:2.0
PRODID:-//ChamberMaster//Event Calendar 2.0//EN
METHOD:PUBLISH
X-PUBLISHED-TTL:P3D
REFRESH-INTERVAL:P3D
CALSCALE:GREGORIAN
BEGIN:VEVENT
DTSTART:20260916T153000Z
DTEND:20260916T170000Z
X-MICROSOFT-CDO-ALLDAYEVENT:FALSE
SUMMARY:Talk of the Town | September 2026
DESCRIPTION:Get the inside scoop on what's happening in our community at Talk of the Town  the ultimate event to stay informed\, inspired\, and connected. This is your chance to hear from key leaders\, learn about exciting developments\, and gain valuable insights into the issues shaping Coweta County. With engaging speakers\, lively discussions\, and plenty of opportunities to network\, Talk of the Town is where conversations ignite action. Don't miss this must-attend event because being in the know starts here!
X-ALT-DESC;FMTTYPE=text/html:<span style="color: rgb(51\, 51\, 51)\;">Get the inside scoop on what&rsquo\;s happening in our community at <strong>Talk of the Town</strong>&nbsp\;&mdash\;the ultimate event to stay informed\, inspired\, and connected. This is your chance to hear from key leaders\, learn about exciting developments\, and gain valuable insights into the issues shaping Coweta County.&nbsp\;</span>With engaging speakers\, lively discussions\, and plenty of opportunities to network\, Talk of the Town is where conversations ignite action. Don&rsquo\;t miss this must-attend event&mdash\;because being in the know starts here!\n<p style="box-sizing: border-box\; margin: 0px 0px 10px\; font-size: 16px\; line-height: 1.2\; color: rgb(51\, 51\, 51)\; font-family: Calibri\, Verdana\, Geneva\, sans-serif\; background-color: rgb(255\, 255\, 255)\;">&nbsp\;</p>\n
LOCATION:Newnan Country Club 1356 US-29 Newnan\, GA 30263
UID:e.468.21492
SEQUENCE:3
DTSTAMP:20260424T153346Z
URL:https://www.newnancowetachamber.org/events/details/talk-of-the-town-september-2026-21492
END:VEVENT

END:VCALENDAR
