BEGIN:VCALENDAR
VERSION:2.0
PRODID:-//ChamberMaster//Event Calendar 2.0//EN
METHOD:PUBLISH
X-PUBLISHED-TTL:P3D
REFRESH-INTERVAL:P3D
CALSCALE:GREGORIAN
BEGIN:VEVENT
DTSTART:20200922T120000Z
DTEND:20200922T130000Z
X-MICROSOFT-CDO-ALLDAYEVENT:FALSE
SUMMARY:The Breakfast Club at The Claiborne
DESCRIPTION:Jumpstart your morning with the Newnan-Coweta Chamber and presenting sponsor The Claiborne at Newnan Lakes with coffee\, light breakfast fare\, and camaraderie at this new spin on a popular member offering.\n\n\n\nFormerly presented quarterly as Coffee Call\, we're pleased to offer a bi-monthly opportunity to connect with other Chamber members in a classic\, networking-friendly environment. Bring plenty of business cards and rehearse your elevator pitch for our "Beat the Buzzer" one-minute challenge.\n\n\n\nRegistration is limited to 20 guests. Register now to ensure a spot!
X-ALT-DESC;FMTTYPE=text/html:<span style="font-family: tahoma\, geneva\, sans-serif\; font-size: 16px\;">Jumpstart your morning with the Newnan-Coweta Chamber and presenting sponsor The Claiborne at Newnan Lakes with coffee\, light breakfast fare\, and camaraderie at this new spin on a popular member offering.<br />\n<br />\nFormerly presented quarterly as Coffee Call\, we&#39\;re pleased to offer a bi-monthly&nbsp\;</span><span style="box-sizing: border-box\; font-family: tahoma\, geneva\, sans-serif\; font-size: 16px\;">opportunity to connect with other Chamber members in a classic\, networking-friendly environment. Bring plenty of business cards and rehearse your elevator pitch for our &quot\;Beat the Buzzer&quot\; one-minute challenge.<br />\n<br />\nRegistration is limited to 20 guests. Register now to ensure a spot!</span>
LOCATION:The Claiborne at Newnan Lakes 461 Newnan Lakes Blvd. | Newnan
UID:e.468.16781
SEQUENCE:3
DTSTAMP:20260425T234041Z
URL:https://www.newnancowetachamber.org/events/details/the-breakfast-club-at-the-claiborne-16781
END:VEVENT

END:VCALENDAR
