BEGIN:VCALENDAR
VERSION:2.0
PRODID:-//ChamberMaster//Event Calendar 2.0//EN
METHOD:PUBLISH
X-PUBLISHED-TTL:P3D
REFRESH-INTERVAL:P3D
CALSCALE:GREGORIAN
BEGIN:VEVENT
DTSTART;VALUE=DATE:20240912
DTEND;VALUE=DATE:20240913
TRANSP:TRANSPARENT
X-MICROSOFT-CDO-ALLDAYEVENT:TRUE
SUMMARY:TRC Rally
DESCRIPTION:TRC Kickoff Rally
X-ALT-DESC;FMTTYPE=text/html:TRC Kickoff Rally
LOCATION:Newnan Utilities Wahoo Administrative Building 315 Millard Farmer Industrial Blvd. Newnan\, GA 30263
UID:e.468.20466
SEQUENCE:3
DTSTAMP:20260425T235943Z
URL:https://www.newnancowetachamber.org/events/details/trc-rally-09-12-2024-20466
END:VEVENT

END:VCALENDAR
