BEGIN:VCALENDAR
VERSION:2.0
PRODID:-//ChamberMaster//Event Calendar 2.0//EN
METHOD:PUBLISH
X-PUBLISHED-TTL:P3D
REFRESH-INTERVAL:P3D
CALSCALE:GREGORIAN
BEGIN:VEVENT
DTSTART:20171201T210000Z
DTEND:20171201T233000Z
X-MICROSOFT-CDO-ALLDAYEVENT:FALSE
SUMMARY:Young Professionals Holiday Event 12.1.17
DESCRIPTION:3rd Annual Holiday Party!  \n\nThe Young Professionals are hosting their Third Annual Holiday Party! Come enjoy fun activities\, prizes\, games\, and food and beverages (beer and wine included). Cost is $40.Your business can participate as a sponsor starting at only $100. For more information\, contact info@newnancowetachamber.org.
X-ALT-DESC;FMTTYPE=text/html:<span style="font-size:14px\;"><span style="font-family:arial\;"><span style="font-size:16px\;"><strong>3rd Annual Holiday Party!&nbsp\;&nbsp\;</strong></span></span></span><br />\n<span style="color:#403F42\;"><span style="font-family:trebuchet ms\,sans-serif\;"><span style="font-size:10.5pt\;">The Young Professionals are hosting their Third Annual Holiday Party! Come enjoy fun activities\, prizes\, games\, and food and beverages (beer and wine included). Cost is $40.Your business can participate as a sponsor starting at only $100. For more information\, contact <a href="mailto:info@newnancowetachamber.org">info@newnancowetachamber.org</a>.</span></span></span><br />\n&nbsp\;
LOCATION:The Cellar 20 Jefferson St. Newnan
UID:e.468.11059
SEQUENCE:3
DTSTAMP:20260425T135128Z
URL:https://www.newnancowetachamber.org/events/details/young-professionals-holiday-event-12-1-17-11059
END:VEVENT

END:VCALENDAR
